BEGIN:VCALENDAR
VERSION:2.0
PRODID:-//wp-events-plugin.com//7.2.2.1//EN
TZID:Europe/Kiev
X-WR-TIMEZONE:Europe/Kiev
BEGIN:VEVENT
UID:667@ugcc.od.ua
DTSTART;TZID=Europe/Kiev;VALUE=DATE:20241205
DTEND;TZID=Europe/Kiev;VALUE=DATE:20241206
DTSTAMP:20241026T110824Z
URL:https://ugcc.od.ua/events/%d0%94%d0%9d-%d0%be-%d0%9c%d0%b8%d1%85%d0%b0
 %d0%b9%d0%bb%d0%be-%d0%9c%d0%be%d1%81%d0%ba%d0%b0%d0%bb%d1%8e%d0%ba-2024-1
 2-05/
SUMMARY:ДН о.Михайло Москалюк
DESCRIPTION:
CATEGORIES:День народження
END:VEVENT
BEGIN:VTIMEZONE
TZID:Europe/Kiev
X-LIC-LOCATION:Europe/Kiev
BEGIN:STANDARD
DTSTART:20241027T030000
TZOFFSETFROM:+0300
TZOFFSETTO:+0200
TZNAME:EET
END:STANDARD
END:VTIMEZONE
END:VCALENDAR