BEGIN:VCALENDAR
VERSION:2.0
PRODID:-//wp-events-plugin.com//7.2.2.1//EN
TZID:Europe/Kiev
X-WR-TIMEZONE:Europe/Kiev
BEGIN:VEVENT
UID:418@ugcc.od.ua
DTSTART;TZID=Europe/Kiev;VALUE=DATE:20240717
DTEND;TZID=Europe/Kiev;VALUE=DATE:20240718
DTSTAMP:20241026T104504Z
URL:https://ugcc.od.ua/events/%d0%94%d0%9d-%d0%be-%d0%92%d1%96%d0%ba%d1%82
 %d0%be%d1%80-%d0%94%d0%b0%d0%b2%d0%b8%d0%b4%d1%8e%d0%ba-2024-07-17/
SUMMARY:ДН о.Віктор Давидюк
DESCRIPTION:
CATEGORIES:День народження
END:VEVENT
BEGIN:VTIMEZONE
TZID:Europe/Kiev
X-LIC-LOCATION:Europe/Kiev
BEGIN:DAYLIGHT
DTSTART:20240331T040000
TZOFFSETFROM:+0200
TZOFFSETTO:+0300
TZNAME:EEST
END:DAYLIGHT
END:VTIMEZONE
END:VCALENDAR